BEGIN:VCALENDAR
VERSION:2.0
PRODID:-//KGV &quot;Elstertal 1905 e.V.&quot; - ECPv6.15.20//NONSGML v1.0//EN
CALSCALE:GREGORIAN
METHOD:PUBLISH
X-ORIGINAL-URL:https://kgv-elstertal1905.de
X-WR-CALDESC:Veranstaltungen für KGV &quot;Elstertal 1905 e.V.&quot;
REFRESH-INTERVAL;VALUE=DURATION:PT1H
X-Robots-Tag:noindex
X-PUBLISHED-TTL:PT1H
BEGIN:VTIMEZONE
TZID:Europe/Berlin
BEGIN:DAYLIGHT
TZOFFSETFROM:+0100
TZOFFSETTO:+0200
TZNAME:CEST
DTSTART:20240331T010000
END:DAYLIGHT
BEGIN:STANDARD
TZOFFSETFROM:+0200
TZOFFSETTO:+0100
TZNAME:CET
DTSTART:20241027T010000
END:STANDARD
BEGIN:DAYLIGHT
TZOFFSETFROM:+0100
TZOFFSETTO:+0200
TZNAME:CEST
DTSTART:20250330T010000
END:DAYLIGHT
BEGIN:STANDARD
TZOFFSETFROM:+0200
TZOFFSETTO:+0100
TZNAME:CET
DTSTART:20251026T010000
END:STANDARD
BEGIN:DAYLIGHT
TZOFFSETFROM:+0100
TZOFFSETTO:+0200
TZNAME:CEST
DTSTART:20260329T010000
END:DAYLIGHT
BEGIN:STANDARD
TZOFFSETFROM:+0200
TZOFFSETTO:+0100
TZNAME:CET
DTSTART:20261025T010000
END:STANDARD
BEGIN:DAYLIGHT
TZOFFSETFROM:+0100
TZOFFSETTO:+0200
TZNAME:CEST
DTSTART:20270328T010000
END:DAYLIGHT
BEGIN:STANDARD
TZOFFSETFROM:+0200
TZOFFSETTO:+0100
TZNAME:CET
DTSTART:20271031T010000
END:STANDARD
END:VTIMEZONE
BEGIN:VEVENT
DTSTART;TZID=Europe/Berlin:20260418T100000
DTEND;TZID=Europe/Berlin:20260418T120000
DTSTAMP:20260421T104808
CREATED:20260115T172506Z
LAST-MODIFIED:20260119T162443Z
UID:2947-1776506400-1776513600@kgv-elstertal1905.de
SUMMARY:Arbeitseinsatz
DESCRIPTION:Liebe Mitglieder\, \nes ist wieder Zeit\, unsere grüne Oase auf Vordermann zu bringen! Wir laden herzlich zum gemeinsamen Arbeitseinsatz ein. \nGemeinsam wollen wir unseren Garten verschönern\, Beete pflegen und die Wege instandhalten. Jede helfende Hand ist willkommen! Bitte denken Sie an wetterfeste Kleidung und eventuell mitgebrachte Gartengeräte. \nFür Verpflegung wird gesorgt. Wir freuen uns auf zahlreiche Unterstützung und einen fröhlichen Tag im Garten! \nGenauere Informationen zu Treffpunkt und Arbeitsmaterialien erhalten Sie in Kürze. \nVielen Dank im Voraus für Ihre Mithilfe! \nMit gärtnerischen Grüßen\, \nDer Vorstand
URL:https://kgv-elstertal1905.de/event/arbeitseinsatz-2/
LOCATION:KGV “Elstertal 1905 e.V.”\, Marienweg 7\, Leipzig\, Sachsen\, 04159\, Deutschland
CATEGORIES:Arbeitseinsatz
ORGANIZER;CN="KGV Elstertal 1905 e.V.":MAILTO:Post@kgv-elstertal1905.de
END:VEVENT
BEGIN:VEVENT
DTSTART;TZID=Europe/Berlin:20260307T100000
DTEND;TZID=Europe/Berlin:20260307T120000
DTSTAMP:20260421T104808
CREATED:20260115T172206Z
LAST-MODIFIED:20260119T162506Z
UID:2944-1772877600-1772884800@kgv-elstertal1905.de
SUMMARY:Arbeitseinsatz
DESCRIPTION:Liebe Mitglieder\, \nes ist wieder Zeit\, unsere grüne Oase auf Vordermann zu bringen! Wir laden herzlich zum gemeinsamen Arbeitseinsatz ein. \nGemeinsam wollen wir unseren Garten verschönern\, Beete pflegen und die Wege instandhalten. Jede helfende Hand ist willkommen! Bitte denken Sie an wetterfeste Kleidung und eventuell mitgebrachte Gartengeräte. \nFür Verpflegung wird gesorgt. Wir freuen uns auf zahlreiche Unterstützung und einen fröhlichen Tag im Garten! \nGenauere Informationen zu Treffpunkt und Arbeitsmaterialien erhalten Sie in Kürze. \nVielen Dank im Voraus für Ihre Mithilfe! \nMit gärtnerischen Grüßen\, \nDer Vorstand
URL:https://kgv-elstertal1905.de/event/arbeitseinsatz/
LOCATION:KGV “Elstertal 1905 e.V.”\, Marienweg 7\, Leipzig\, Sachsen\, 04159\, Deutschland
CATEGORIES:Arbeitseinsatz
ORGANIZER;CN="KGV Elstertal 1905 e.V.":MAILTO:Post@kgv-elstertal1905.de
END:VEVENT
BEGIN:VEVENT
DTSTART;TZID=Europe/Berlin:20251129T100000
DTEND;TZID=Europe/Berlin:20251129T130000
DTSTAMP:20260421T104808
CREATED:20250209T122104Z
LAST-MODIFIED:20250209T122104Z
UID:2545-1764410400-1764421200@kgv-elstertal1905.de
SUMMARY:Ordentliche Mitgliederversammlung
DESCRIPTION:Liebe Mitglieder\, \nwir laden herzlich zur diesjährigen Mitgliederversammlung ein. \nAuf der Tagesordnung stehen wichtige Themen\, die die Zukunft unserer Gemeinschaft betreffen. Umfassende Informationen zu den einzelnen Punkten sowie weitere organisatorische Details werden Ihnen noch mitgeteilt. \nWir freuen uns auf zahlreiches Erscheinen und einen konstruktiven Austausch. Bitte behalten Sie Ihre Posteingänge im Auge\, um die ausführlichen Informationen zeitnah zu erhalten. \nMit freundlichen Grüßen\, \nDer Vorstand
URL:https://kgv-elstertal1905.de/event/ordentliche-mitgliederversammlung-2/
LOCATION:Elstertal Saloon\, Marienweg 7\, Leipzig\, Sachsen\, 04159\, Deutschland
CATEGORIES:Migliederversammlung
ORGANIZER;CN="KGV Elstertal 1905 e.V.":MAILTO:Post@kgv-elstertal1905.de
END:VEVENT
BEGIN:VEVENT
DTSTART;TZID=Europe/Berlin:20250920T100000
DTEND;TZID=Europe/Berlin:20250920T120000
DTSTAMP:20260421T104808
CREATED:20250209T114151Z
LAST-MODIFIED:20250209T114755Z
UID:2536-1758362400-1758369600@kgv-elstertal1905.de
SUMMARY:Arbeitseinsatz
DESCRIPTION:Liebe Mitglieder\, \nes ist wieder Zeit\, unsere grüne Oase auf Vordermann zu bringen! Wir laden herzlich zum gemeinsamen Arbeitseinsatz ein. \nGemeinsam wollen wir unseren Garten verschönern\, Beete pflegen und die Wege instandhalten. Jede helfende Hand ist willkommen! Bitte denken Sie an wetterfeste Kleidung und eventuell mitgebrachte Gartengeräte. \nFür Verpflegung wird gesorgt. Wir freuen uns auf zahlreiche Unterstützung und einen fröhlichen Tag im Garten! \nGenauere Informationen zu Treffpunkt und Arbeitsmaterialien erhalten Sie in Kürze. \nVielen Dank im Voraus für Ihre Mithilfe! \nMit gärtnerischen Grüßen\, \nDer Vorstand
URL:https://kgv-elstertal1905.de/event/arbeitseinsatz-13/
LOCATION:KGV “Elstertal 1905 e.V.”\, Marienweg 7\, Leipzig\, Sachsen\, 04159\, Deutschland
CATEGORIES:Arbeitseinsatz
ORGANIZER;CN="KGV Elstertal 1905 e.V.":MAILTO:Post@kgv-elstertal1905.de
END:VEVENT
BEGIN:VEVENT
DTSTART;TZID=Europe/Berlin:20250809T090000
DTEND;TZID=Europe/Berlin:20250809T120000
DTSTAMP:20260421T104808
CREATED:20250209T114048Z
LAST-MODIFIED:20250209T114104Z
UID:2533-1754730000-1754740800@kgv-elstertal1905.de
SUMMARY:Arbeitseinsatz
DESCRIPTION:Liebe Mitglieder\, \nes ist wieder Zeit\, unsere grüne Oase auf Vordermann zu bringen! Wir laden herzlich zum gemeinsamen Arbeitseinsatz ein. \nGemeinsam wollen wir unseren Garten verschönern\, Beete pflegen und die Wege instandhalten. Jede helfende Hand ist willkommen! Bitte denken Sie an wetterfeste Kleidung und eventuell mitgebrachte Gartengeräte. \nFür Verpflegung wird gesorgt. Wir freuen uns auf zahlreiche Unterstützung und einen fröhlichen Tag im Garten! \nGenauere Informationen zu Treffpunkt und Arbeitsmaterialien erhalten Sie in Kürze. \nVielen Dank im Voraus für Ihre Mithilfe! \nMit gärtnerischen Grüßen\, \nDer Vorstand
URL:https://kgv-elstertal1905.de/event/2533/
LOCATION:KGV “Elstertal 1905 e.V.”\, Marienweg 7\, Leipzig\, Sachsen\, 04159\, Deutschland
CATEGORIES:Arbeitseinsatz
ORGANIZER;CN="KGV Elstertal 1905 e.V.":MAILTO:Post@kgv-elstertal1905.de
END:VEVENT
BEGIN:VEVENT
DTSTART;TZID=Europe/Berlin:20250712T090000
DTEND;TZID=Europe/Berlin:20250712T120000
DTSTAMP:20260421T104808
CREATED:20250209T114013Z
LAST-MODIFIED:20250209T114013Z
UID:2530-1752310800-1752321600@kgv-elstertal1905.de
SUMMARY:Arbeitseinsatz
DESCRIPTION:Liebe Mitglieder\, \nes ist wieder Zeit\, unsere grüne Oase auf Vordermann zu bringen! Wir laden herzlich zum gemeinsamen Arbeitseinsatz ein. \nGemeinsam wollen wir unseren Garten verschönern\, Beete pflegen und die Wege instandhalten. Jede helfende Hand ist willkommen! Bitte denken Sie an wetterfeste Kleidung und eventuell mitgebrachte Gartengeräte. \nFür Verpflegung wird gesorgt. Wir freuen uns auf zahlreiche Unterstützung und einen fröhlichen Tag im Garten! \nGenauere Informationen zu Treffpunkt und Arbeitsmaterialien erhalten Sie in Kürze. \nVielen Dank im Voraus für Ihre Mithilfe! \nMit gärtnerischen Grüßen\, \nDer Vorstand
URL:https://kgv-elstertal1905.de/event/arbeitseinsatz-12/
LOCATION:KGV “Elstertal 1905 e.V.”\, Marienweg 7\, Leipzig\, Sachsen\, 04159\, Deutschland
CATEGORIES:Arbeitseinsatz
ORGANIZER;CN="KGV Elstertal 1905 e.V.":MAILTO:Post@kgv-elstertal1905.de
END:VEVENT
BEGIN:VEVENT
DTSTART;TZID=Europe/Berlin:20250614T090000
DTEND;TZID=Europe/Berlin:20250614T120000
DTSTAMP:20260421T104808
CREATED:20250209T113929Z
LAST-MODIFIED:20250209T114817Z
UID:2528-1749891600-1749902400@kgv-elstertal1905.de
SUMMARY:Arbeitseinsatz
DESCRIPTION:Liebe Mitglieder\, \nes ist wieder Zeit\, unsere grüne Oase auf Vordermann zu bringen! Wir laden herzlich zum gemeinsamen Arbeitseinsatz ein. \nGemeinsam wollen wir unseren Garten verschönern\, Beete pflegen und die Wege instandhalten. Jede helfende Hand ist willkommen! Bitte denken Sie an wetterfeste Kleidung und eventuell mitgebrachte Gartengeräte. \nFür Verpflegung wird gesorgt. Wir freuen uns auf zahlreiche Unterstützung und einen fröhlichen Tag im Garten! \nGenauere Informationen zu Treffpunkt und Arbeitsmaterialien erhalten Sie in Kürze. \nVielen Dank im Voraus für Ihre Mithilfe! \nMit gärtnerischen Grüßen\, \nDer Vorstand
URL:https://kgv-elstertal1905.de/event/arbeitseinsatz-11/
LOCATION:KGV “Elstertal 1905 e.V.”\, Marienweg 7\, Leipzig\, Sachsen\, 04159\, Deutschland
CATEGORIES:Arbeitseinsatz
ORGANIZER;CN="KGV Elstertal 1905 e.V.":MAILTO:Post@kgv-elstertal1905.de
END:VEVENT
BEGIN:VEVENT
DTSTART;TZID=Europe/Berlin:20250517T100000
DTEND;TZID=Europe/Berlin:20250517T120000
DTSTAMP:20260421T104808
CREATED:20250209T113843Z
LAST-MODIFIED:20250209T114825Z
UID:2526-1747476000-1747483200@kgv-elstertal1905.de
SUMMARY:Arbeitseinsatz
DESCRIPTION:Liebe Mitglieder\, \nes ist wieder Zeit\, unsere grüne Oase auf Vordermann zu bringen! Wir laden herzlich zum gemeinsamen Arbeitseinsatz ein. \nGemeinsam wollen wir unseren Garten verschönern\, Beete pflegen und die Wege instandhalten. Jede helfende Hand ist willkommen! Bitte denken Sie an wetterfeste Kleidung und eventuell mitgebrachte Gartengeräte. \nFür Verpflegung wird gesorgt. Wir freuen uns auf zahlreiche Unterstützung und einen fröhlichen Tag im Garten! \nGenauere Informationen zu Treffpunkt und Arbeitsmaterialien erhalten Sie in Kürze. \nVielen Dank im Voraus für Ihre Mithilfe! \nMit gärtnerischen Grüßen\, \nDer Vorstand
URL:https://kgv-elstertal1905.de/event/arbeitseinsatz-10/
LOCATION:KGV “Elstertal 1905 e.V.”\, Marienweg 7\, Leipzig\, Sachsen\, 04159\, Deutschland
CATEGORIES:Arbeitseinsatz
ORGANIZER;CN="KGV Elstertal 1905 e.V.":MAILTO:Post@kgv-elstertal1905.de
END:VEVENT
END:VCALENDAR